BEGIN:VCALENDAR
VERSION:2.0
PRODID:icalendar-ruby
CALSCALE:GREGORIAN
METHOD:PUBLISH
BEGIN:VEVENT
DTSTAMP:20260423T031727Z
UID:65-1202300@shelbychristian.com
DTSTART:20261022T220000Z
DTEND:20261022T230000Z
CLASS:PUBLIC
CREATED:20260422T213757
DESCRIPTION:
LAST-MODIFIED:20260422T213757
LOCATION:Chruch
SUMMARY:Handbell practice
URL;VALUE=URI:https://shelbychristian.com/events/handbell-practice/2026-10-
 22
END:VEVENT
END:VCALENDAR
