BEGIN:VCALENDAR
VERSION:2.0
PRODID:icalendar-ruby
CALSCALE:GREGORIAN
METHOD:PUBLISH
BEGIN:VEVENT
DTSTAMP:20260422T161424Z
UID:7-1198998@shelbychristian.com
DTSTART:20261004T140000Z
DTEND:20261004T151500Z
CLASS:PUBLIC
CREATED:20260422T100142
DESCRIPTION:Our theme for the year is G.R.O.W - growing in a Jesus-Centered
  relationship.  Come join us as we explore the current series - BEELINE F
 OR JESUS!  We are diving into scripture and discovering how much Jesus de
 sires to have a relationship with us\, while discovering what we need to d
 o to have that grace filled relationship. \nCome GROW with us!\nG - Grace
 \nR - Relationship\nO - Obedience (Trust) \nW - Worship 
LAST-MODIFIED:20260422T100142
LOCATION:
SUMMARY:Worship & Message 
URL;VALUE=URI:https://shelbychristian.com/events/worship-message/2026-10-04
END:VEVENT
END:VCALENDAR
