BEGIN:VCALENDAR
VERSION:2.0
PRODID:icalendar-ruby
CALSCALE:GREGORIAN
METHOD:PUBLISH
BEGIN:VEVENT
DTSTAMP:20260422T232205Z
UID:7-1201198@shelbychristian.com
DTSTART:20261101T150000Z
DTEND:20261101T161500Z
CLASS:PUBLIC
CREATED:20260422T184539
DESCRIPTION:Our theme for the year is G.R.O.W - growing in a Jesus-Centered
  relationship.  Come join us as we explore the current series - BEELINE F
 OR JESUS!  We are diving into scripture and discovering how much Jesus de
 sires to have a relationship with us\, while discovering what we need to d
 o to have that grace filled relationship. \nCome GROW with us!\nG - Grace
 \nR - Relationship\nO - Obedience (Trust) \nW - Worship 
LAST-MODIFIED:20260422T184539
LOCATION:
SUMMARY:Worship & Message 
URL;VALUE=URI:https://shelbychristian.com/events/worship-message/2026-11-01
END:VEVENT
END:VCALENDAR
